BEGIN:VCALENDAR
VERSION:2.0
PRODID:-//The TAP - ECPv6.15.20//NONSGML v1.0//EN
CALSCALE:GREGORIAN
METHOD:PUBLISH
X-ORIGINAL-URL:https://yourtap.org
X-WR-CALDESC:Events for The TAP
REFRESH-INTERVAL;VALUE=DURATION:PT1H
X-Robots-Tag:noindex
X-PUBLISHED-TTL:PT1H
BEGIN:VTIMEZONE
TZID:America/Chicago
BEGIN:DAYLIGHT
TZOFFSETFROM:-0600
TZOFFSETTO:-0500
TZNAME:CDT
DTSTART:20230312T080000
END:DAYLIGHT
BEGIN:STANDARD
TZOFFSETFROM:-0500
TZOFFSETTO:-0600
TZNAME:CST
DTSTART:20231105T070000
END:STANDARD
BEGIN:DAYLIGHT
TZOFFSETFROM:-0600
TZOFFSETTO:-0500
TZNAME:CDT
DTSTART:20240310T080000
END:DAYLIGHT
BEGIN:STANDARD
TZOFFSETFROM:-0500
TZOFFSETTO:-0600
TZNAME:CST
DTSTART:20241103T070000
END:STANDARD
BEGIN:DAYLIGHT
TZOFFSETFROM:-0600
TZOFFSETTO:-0500
TZNAME:CDT
DTSTART:20250309T080000
END:DAYLIGHT
BEGIN:STANDARD
TZOFFSETFROM:-0500
TZOFFSETTO:-0600
TZNAME:CST
DTSTART:20251102T070000
END:STANDARD
END:VTIMEZONE
BEGIN:VEVENT
DTSTART;TZID=America/Chicago:20240102T180000
DTEND;TZID=America/Chicago:20240102T203000
DTSTAMP:20260424T165935
CREATED:20231130T231825Z
LAST-MODIFIED:20240101T192411Z
UID:4545-1704218400-1704227400@yourtap.org
SUMMARY:TAP Tuesday - The Urban Journal at Woodland Hills
DESCRIPTION:The Urban Journal Returns !!!\nFor one night only come and immerse yourself in\na spectacular night of vocalized emotion straight from the core and lips of\nthose who wrote it…Join us for a great night of spoken word\, stories and music. \nWHEN\nTUESDAY JANUARY 2\, 2024 \nWHERE\nWoodland Hills Church\nSOUTH ENTRANCE – DOOR C\n1740 Van Dyke\nSt. Paul\, MN 55109 \nNOTE:\n– Doors don’t open until 6pm\, so plan your arrival accordingly.\n– If you use Metro Mobility to attend our events\, please be sure to schedule your pickup from Woodland Hills for 8:30pm\, no later. Thank you! \nLight snacks and beverages provided.\nAll TAP Events are free and open to the public.\nSee you at The Urban Journal at The TAP!\n \nWWW.YOURTAP.ORG
URL:https://yourtap.org/event/tap-tuesday-the-urban-journal-at-woodland-hills/
LOCATION:Woodland Hills Church\, 1740 Van Dyke St\, Saint Paul\, MN\, 55109\, United States
ATTACH;FMTTYPE=image/png:https://yourtap.org/wp-content/uploads/2023/11/UrbanJournal-2024-01-02.png
ORGANIZER;CN="The TAP":MAILTO:info@yourtap.org
END:VEVENT
END:VCALENDAR