BEGIN:VCALENDAR
VERSION:2.0
PRODID:-//The TAP - ECPv6.15.12.2//NONSGML v1.0//EN
CALSCALE:GREGORIAN
METHOD:PUBLISH
X-WR-CALNAME:The TAP
X-ORIGINAL-URL:https://yourtap.org
X-WR-CALDESC:Events for The TAP
REFRESH-INTERVAL;VALUE=DURATION:PT1H
X-Robots-Tag:noindex
X-PUBLISHED-TTL:PT1H
BEGIN:VTIMEZONE
TZID:America/Chicago
BEGIN:DAYLIGHT
TZOFFSETFROM:-0600
TZOFFSETTO:-0500
TZNAME:CDT
DTSTART:20160313T080000
END:DAYLIGHT
BEGIN:STANDARD
TZOFFSETFROM:-0500
TZOFFSETTO:-0600
TZNAME:CST
DTSTART:20161106T070000
END:STANDARD
BEGIN:DAYLIGHT
TZOFFSETFROM:-0600
TZOFFSETTO:-0500
TZNAME:CDT
DTSTART:20170312T080000
END:DAYLIGHT
BEGIN:STANDARD
TZOFFSETFROM:-0500
TZOFFSETTO:-0600
TZNAME:CST
DTSTART:20171105T070000
END:STANDARD
BEGIN:DAYLIGHT
TZOFFSETFROM:-0600
TZOFFSETTO:-0500
TZNAME:CDT
DTSTART:20180311T080000
END:DAYLIGHT
BEGIN:STANDARD
TZOFFSETFROM:-0500
TZOFFSETTO:-0600
TZNAME:CST
DTSTART:20181104T070000
END:STANDARD
END:VTIMEZONE
BEGIN:VEVENT
DTSTART;TZID=America/Chicago:20170918T180000
DTEND;TZID=America/Chicago:20170918T210000
DTSTAMP:20260419T224615
CREATED:20170815T033537Z
LAST-MODIFIED:20170815T033537Z
UID:1072-1505757600-1505768400@yourtap.org
SUMMARY:Urban Journal at Sojourners St Paul
DESCRIPTION:Love to hear some spoken word? A chance to write with others and perform? Then you need to get here!! Great coffee and snacks! Come to perform or just listen. Tell your friends!
URL:https://yourtap.org/event/urban-journal-at-sojourners-st-paul/
LOCATION:Sojourners Cafe\, 1406 White Bear Ave\, St. Paul\, MN\, 55106\, United States
CATEGORIES:Urban Journal
END:VEVENT
BEGIN:VEVENT
DTSTART;TZID=America/Chicago:20170710T180000
DTEND;TZID=America/Chicago:20170710T210000
DTSTAMP:20260419T224615
CREATED:20170619T021727Z
LAST-MODIFIED:20170619T021727Z
UID:1039-1499709600-1499720400@yourtap.org
SUMMARY:Urban Journal Guild at Sojourners Cafe St. Paul
DESCRIPTION:Love to hear some spoken word? A chance to write with others and perform? Then you need to get here!! Great coffee and snacks! Come to perform or just listen. Tell your friends!
URL:https://yourtap.org/event/urban-journal-guild-at-sojourners-cafe-st-paul/
LOCATION:Sojourners Cafe\, 1406 White Bear Ave\, St. Paul\, MN\, 55106\, United States
CATEGORIES:Urban Journal
ORGANIZER;CN="The TAP":MAILTO:info@yourtap.org
END:VEVENT
BEGIN:VEVENT
DTSTART;TZID=America/Chicago:20170603T100000
DTEND;TZID=America/Chicago:20170603T170000
DTSTAMP:20260419T224615
CREATED:20170420T145826Z
LAST-MODIFIED:20170420T145826Z
UID:986-1496484000-1496509200@yourtap.org
SUMMARY:Urban Journal at Art In The Hollow! Swede Hollow Park St. Paul
DESCRIPTION:The TAP and the Urban Journal proudly presents a day of spoken word and music in the south tunnel at the Art in the Hollow Festival at Swede Hollow Park in St. Paul.  More info to follow! Hope to see you all there!
URL:https://yourtap.org/event/urban-journal-at-art-in-the-hollow-swede-hollow-park-st-paul/
LOCATION:Swede Hollow Park St. Paul\,  615 7th St E\, St. Paul\, MN\, 55106\, United States
CATEGORIES:TAP,Urban Journal
END:VEVENT
BEGIN:VEVENT
DTSTART;TZID=America/Chicago:20170525T180000
DTEND;TZID=America/Chicago:20170525T210000
DTSTAMP:20260419T224615
CREATED:20170420T020302Z
LAST-MODIFIED:20170523T150546Z
UID:967-1495735200-1495746000@yourtap.org
SUMMARY:The TAP presents - Urban Journal at The Show Gallery St. Paul Lowertown
DESCRIPTION:The Show Art Gallery and the TAP proudly present… \nThe Urban Journal…A Night of spoken Word. \nJoin us for a great night of spoken word and music\, featuring Tortuga Jazz. Check out Tortuga at http://tortugajazz.com/music \n \nShow Gallery Lowertown\nFor parking and accessibility information for this event\, please click here.
URL:https://yourtap.org/event/urban-journal-at-show-gallery-st-paul-lowertown/
LOCATION:Show Gallery Lowertown\, 346 N. Sibley Street\, St. Paul\, MN\, 55101\, United States
CATEGORIES:TAP,Urban Journal
ORGANIZER;CN="The TAP":MAILTO:info@yourtap.org
END:VEVENT
BEGIN:VEVENT
DTSTART;TZID=America/Chicago:20170401T180000
DTEND;TZID=America/Chicago:20170401T210000
DTSTAMP:20260419T224615
CREATED:20170321T012118Z
LAST-MODIFIED:20170328T182113Z
UID:374-1491069600-1491080400@yourtap.org
SUMMARY:Urban Journal
DESCRIPTION:Love to hear some spoken word? A chance to write with others and perform? Then you need to get here!! We are excited for our first meeting. Great coffee and snacks! Come to perform or just listen. Tell your friends!
URL:https://yourtap.org/event/urban-journal/
LOCATION:Woodland Hills Church\, 1740 Van Dyke St\, Saint Paul\, MN\, 55109\, United States
CATEGORIES:Urban Journal
ORGANIZER;CN="The TAP":MAILTO:info@yourtap.org
END:VEVENT
END:VCALENDAR