BEGIN:VCALENDAR
VERSION:2.0
PRODID:-//The TAP - ECPv6.15.12.2//NONSGML v1.0//EN
CALSCALE:GREGORIAN
METHOD:PUBLISH
X-WR-CALNAME:The TAP
X-ORIGINAL-URL:https://yourtap.org
X-WR-CALDESC:Events for The TAP
REFRESH-INTERVAL;VALUE=DURATION:PT1H
X-Robots-Tag:noindex
X-PUBLISHED-TTL:PT1H
BEGIN:VTIMEZONE
TZID:America/Chicago
BEGIN:DAYLIGHT
TZOFFSETFROM:-0600
TZOFFSETTO:-0500
TZNAME:CDT
DTSTART:20160313T080000
END:DAYLIGHT
BEGIN:STANDARD
TZOFFSETFROM:-0500
TZOFFSETTO:-0600
TZNAME:CST
DTSTART:20161106T070000
END:STANDARD
BEGIN:DAYLIGHT
TZOFFSETFROM:-0600
TZOFFSETTO:-0500
TZNAME:CDT
DTSTART:20170312T080000
END:DAYLIGHT
BEGIN:STANDARD
TZOFFSETFROM:-0500
TZOFFSETTO:-0600
TZNAME:CST
DTSTART:20171105T070000
END:STANDARD
BEGIN:DAYLIGHT
TZOFFSETFROM:-0600
TZOFFSETTO:-0500
TZNAME:CDT
DTSTART:20180311T080000
END:DAYLIGHT
BEGIN:STANDARD
TZOFFSETFROM:-0500
TZOFFSETTO:-0600
TZNAME:CST
DTSTART:20181104T070000
END:STANDARD
BEGIN:DAYLIGHT
TZOFFSETFROM:-0600
TZOFFSETTO:-0500
TZNAME:CDT
DTSTART:20190310T080000
END:DAYLIGHT
BEGIN:STANDARD
TZOFFSETFROM:-0500
TZOFFSETTO:-0600
TZNAME:CST
DTSTART:20191103T070000
END:STANDARD
BEGIN:DAYLIGHT
TZOFFSETFROM:-0600
TZOFFSETTO:-0500
TZNAME:CDT
DTSTART:20200308T080000
END:DAYLIGHT
BEGIN:STANDARD
TZOFFSETFROM:-0500
TZOFFSETTO:-0600
TZNAME:CST
DTSTART:20201101T070000
END:STANDARD
BEGIN:DAYLIGHT
TZOFFSETFROM:-0600
TZOFFSETTO:-0500
TZNAME:CDT
DTSTART:20210314T080000
END:DAYLIGHT
BEGIN:STANDARD
TZOFFSETFROM:-0500
TZOFFSETTO:-0600
TZNAME:CST
DTSTART:20211107T070000
END:STANDARD
BEGIN:DAYLIGHT
TZOFFSETFROM:-0600
TZOFFSETTO:-0500
TZNAME:CDT
DTSTART:20220313T080000
END:DAYLIGHT
BEGIN:STANDARD
TZOFFSETFROM:-0500
TZOFFSETTO:-0600
TZNAME:CST
DTSTART:20221106T070000
END:STANDARD
BEGIN:DAYLIGHT
TZOFFSETFROM:-0600
TZOFFSETTO:-0500
TZNAME:CDT
DTSTART:20230312T080000
END:DAYLIGHT
BEGIN:STANDARD
TZOFFSETFROM:-0500
TZOFFSETTO:-0600
TZNAME:CST
DTSTART:20231105T070000
END:STANDARD
END:VTIMEZONE
BEGIN:VEVENT
DTSTART;TZID=America/Chicago:20220604T100000
DTEND;TZID=America/Chicago:20220604T170000
DTSTAMP:20260420T031553
CREATED:20220428T190624Z
LAST-MODIFIED:20220603T002032Z
UID:4206-1654336800-1654362000@yourtap.org
SUMMARY:The TAP at Art In The Hollow - Swede Hollow Park - Saturday June 4th
DESCRIPTION:  \nJoin us for an all-day TAP and Urban Journal Party at Art In The Hollow!\nPacked with great local artists\, musicians\, poets\, authors\, TAP friends…. and so much more!\nBe a part of this dynamic\, accepting experience! You’ll never be the same!\nOur stage will be set up in the tunnel in the south end of the park.\nJune 4\, 2022   10am to 5pm\nAt\n\nArt In The Hollow Art Festival\nEnter Swede Hollow at\nPayne Avenue and 7thStreet.\nConvenient Parking across from The Minnesota Music Café \nRestrooms       Free Water     Comfortable Seating\nMobility shuttle available\nLook for TAP sign across the street from Minnesota Music Cafe for more info on Shuttle\n\n\nAdmission to Art in the Hollow is free!\n\nFood is available for purchase in the north end of the park. We will have transportation available to take you to and from the north end if you’d like to grab some food.  You may also bring food and/or snacks into the park.  We will have water available at no charge.
URL:https://yourtap.org/event/the-tap-at-art-in-the-hollow-swede-hollow-park-saturday-june-4th/
LOCATION:Swede Hollow Park St. Paul\,  615 7th St E\, St. Paul\, MN\, 55106\, United States
CATEGORIES:Better Together,SuitedConnectors,TAP,Uniquely Us,Urban Journal,Video Gaming Guild
ATTACH;FMTTYPE=image/jpeg:https://yourtap.org/wp-content/uploads/2019/05/TAP-AITH-2019-Logo.jpg
ORGANIZER;CN="The TAP":MAILTO:info@yourtap.org
END:VEVENT
BEGIN:VEVENT
DTSTART;TZID=America/Chicago:20190601T100000
DTEND;TZID=America/Chicago:20190601T170000
DTSTAMP:20260420T031553
CREATED:20190507T145919Z
LAST-MODIFIED:20190530T232554Z
UID:2378-1559383200-1559408400@yourtap.org
SUMMARY:The TAP at Art In The Hollow - Swede Hollow Park
DESCRIPTION:Join us for an all day TAP PARTY at Art In The Hollow – packed with great local bands\, poets\, authors\, TAP friends\, childrens live readings…. and so much more!\nWith Hot Pink Hangover\, Mike Prenosil\, great local bands\, poets\, authors\, TAP friends\, children’s live readings…. and so much more!\nBe a part of this dynamic\, accepting experience! You’ll never be the same!\nJune 1\, 2019   10am to 5pm\nAt\nArt In The Hollow Art Festival\nEnter Swede Hollow at\nPayne Avenue and 7thStreet.\nConvenient Parking across fromThe Minnesota Music Café \nRestrooms       Free Water     Comfortable Seating\nMobility shuttle available\n\nAdmission to Art in the Hollow is free!\n\nFood is available for purchase in the north end of the park. We will have transportation available to take you to and from the north end if you’d like to grab some food.  You may also bring food and/or snacks into the park.  We will have water available at no charge.\n\nThe weather is looking good for Saturday! In the event of inclement weather\, we will move our performance stage to the following location:\nHope Community Academy\n720 Payne Avenue\nSt. Paul\, MN 55130\nPlease stay tuned to our Facebook Group page and yourtap.org for updates.\nSee you all Saturday!!!
URL:https://yourtap.org/event/the-tap-at-art-in-the-hollow-swede-hollow-park/
LOCATION:Swede Hollow Park St. Paul\,  615 7th St E\, St. Paul\, MN\, 55106\, United States
CATEGORIES:Better Together,SuitedConnectors,TAP,Uniquely Us,Urban Journal,Video Gaming Guild
ATTACH;FMTTYPE=image/jpeg:https://yourtap.org/wp-content/uploads/2019/05/TAP-AITH-2019-Logo.jpg
ORGANIZER;CN="The TAP":MAILTO:info@yourtap.org
END:VEVENT
BEGIN:VEVENT
DTSTART;TZID=America/Chicago:20190408T180000
DTEND;TZID=America/Chicago:20190408T210000
DTSTAMP:20260420T031553
CREATED:20190329T151648Z
LAST-MODIFIED:20190329T170406Z
UID:2303-1554746400-1554757200@yourtap.org
SUMMARY:TAP Mondays – Uniquely Us at Woodland Hills
DESCRIPTION:Join us for an evening hanging out with friends\, playing video games\, and Karaoke! \nLight snacks provided. If you can\, please bring a beverage to share. \nUniquely Us\nMonday April 8\, 2019\n6pm to 9pm\nWoodland Hills Church\n1740 Van Dyke St\nSt. Paul\, MN 55109 \n”This is for everyone – especially with ASD to meet people\, come out of the box\, mingle and understand Autism” \n~Danny Roherty \nENTER THROUGH THE “B” DOOR. THIS DOOR FACES THE LIQUOR STORE \nSee you at The TAP!
URL:https://yourtap.org/event/tap-mondays-mish-mash-party-2-2-2-2/
LOCATION:Woodland Hills Church\, 1740 Van Dyke St\, Saint Paul\, MN\, 55109\, United States
CATEGORIES:Uniquely Us
ATTACH;FMTTYPE=image/jpeg:https://yourtap.org/wp-content/uploads/2019/01/3F00292A-1B3E-4E3B-91F5-CB8B5AAFDA85.jpeg
ORGANIZER;CN="The TAP":MAILTO:info@yourtap.org
END:VEVENT
BEGIN:VEVENT
DTSTART;TZID=America/Chicago:20190225T180000
DTEND;TZID=America/Chicago:20190225T210000
DTSTAMP:20260420T031553
CREATED:20190125T205802Z
LAST-MODIFIED:20190213T184606Z
UID:2217-1551117600-1551128400@yourtap.org
SUMMARY:TAP Mondays – Uniquely Us at Woodland Hills
DESCRIPTION:  \nJoin us for an evening hanging out with friends\, playing video games\, and Karaoke! \n”This is for everyone – especially with ASD to meet people\, come out of the box\, mingle and understand Autism” \n~Danny Roherty \nSee you at The TAP!
URL:https://yourtap.org/event/tap-mondays-mish-mash-party-2-2-2/
LOCATION:Woodland Hills Church\, 1740 Van Dyke St\, Saint Paul\, MN\, 55109\, United States
CATEGORIES:Uniquely Us
ATTACH;FMTTYPE=image/jpeg:https://yourtap.org/wp-content/uploads/2019/01/3F00292A-1B3E-4E3B-91F5-CB8B5AAFDA85.jpeg
ORGANIZER;CN="The TAP":MAILTO:info@yourtap.org
END:VEVENT
BEGIN:VEVENT
DTSTART;TZID=America/Chicago:20181112T180000
DTEND;TZID=America/Chicago:20181112T210000
DTSTAMP:20260420T031553
CREATED:20181102T021737Z
LAST-MODIFIED:20181112T011854Z
UID:2058-1542045600-1542056400@yourtap.org
SUMMARY:TAP Mondays - Better Together & Uniquely Us
DESCRIPTION:Better Together & Uniquely Us\nNorth Entrance\, opposite end of the building from where or regular TAP events are located\nWoodland Hills\n\nWe have a 2 for one night\, with Better Together and Uniquely Us hosting events at Woodland Hills. We’ll be using a new space in the north wing of Woodland Hills.  \nJoin us November the 12th at Woodland Hills “North Entrance” for a night of Friendship\, support and Learning new things.  \nAll TAP Events are free and open to the public. Everyone is welcome! \nSee you at the TAP!  \n\nBetter together is for everyone – Supporting our friends with recovery labels. Hang with some great friends\, enjoy some signature coffee drinks\, and just socialize.  It’s always better together! \nWhat is Uniquely Us?  This is for everyone – specifically with ASD – to meet people and come out of the box\, mingle\, and understand ASD.
URL:https://yourtap.org/event/tap-mondays-better-together-uniquely-us/
LOCATION:Woodland Hills Church\, 1740 Van Dyke St\, Saint Paul\, MN\, 55109\, United States
CATEGORIES:Better Together,Uniquely Us
ATTACH;FMTTYPE=image/jpeg:https://yourtap.org/wp-content/uploads/2018/11/Enlight289.jpg
ORGANIZER;CN="The TAP":MAILTO:info@yourtap.org
END:VEVENT
BEGIN:VEVENT
DTSTART;TZID=America/Chicago:20180521T180000
DTEND;TZID=America/Chicago:20180521T210000
DTSTAMP:20260420T031553
CREATED:20180429T213432Z
LAST-MODIFIED:20180506T171447Z
UID:1813-1526925600-1526936400@yourtap.org
SUMMARY:Uniquely US - Inver Grove Heights at Crossroads Church
DESCRIPTION:Join us at Crossroads Church in Inver Grove Heights for Uniquely Us.   \n”This is for everyone – especially with ASD to meet people\, come out of the box\, mingle and understand Autism” \n~Danny Roherty
URL:https://yourtap.org/event/uniquely-us-tentative-inver-grove-heights-at-crossroads-church/
LOCATION:Crossroads Church Inver Grove Heights\, 5590 Babcock Trail\, Inver Grove Heights\, MN\, 55077\, United States
CATEGORIES:Uniquely Us
ORGANIZER;CN="The TAP":MAILTO:info@yourtap.org
END:VEVENT
BEGIN:VEVENT
DTSTART;TZID=America/Chicago:20171127T180000
DTEND;TZID=America/Chicago:20171127T210000
DTSTAMP:20260420T031553
CREATED:20171017T235726Z
LAST-MODIFIED:20171122T224051Z
UID:1216-1511805600-1511816400@yourtap.org
SUMMARY:Uniquely Us Guild at The East Side Freedom Library
DESCRIPTION:“This is for everyone – specifically with ASD – to meet people\, come out of the box\, mingle and understand Autism.” \n~Danny Roherty
URL:https://yourtap.org/event/uniquely-us-guild-at-sojourners-cafe-st-paul/
LOCATION:East Side Freedom Library\, 1105 Greenbrier Street\, St. Paul\, 55106\, United States
CATEGORIES:Uniquely Us
ORGANIZER;CN="The TAP":MAILTO:info@yourtap.org
END:VEVENT
BEGIN:VEVENT
DTSTART;TZID=America/Chicago:20170911T180000
DTEND;TZID=America/Chicago:20170911T210000
DTSTAMP:20260420T031553
CREATED:20170815T031950Z
LAST-MODIFIED:20170815T033004Z
UID:1067-1505152800-1505163600@yourtap.org
SUMMARY:Uniquely Us Guild at Sojourners St Paul
DESCRIPTION:“This is for everyone – specifically with ASD – to meet people\, come out of the box\, mingle and understand Autism.” \n~Danny Roherty
URL:https://yourtap.org/event/uniquely-us-at-sojourners-st-paul/
LOCATION:Sojourners Cafe\, 1406 White Bear Ave\, St. Paul\, MN\, 55106\, United States
CATEGORIES:Uniquely Us
ORGANIZER;CN="The TAP":MAILTO:info@yourtap.org
END:VEVENT
BEGIN:VEVENT
DTSTART;TZID=America/Chicago:20170612T180000
DTEND;TZID=America/Chicago:20170612T210000
DTSTAMP:20260420T031553
CREATED:20170420T012615Z
LAST-MODIFIED:20170421T152933Z
UID:961-1497290400-1497301200@yourtap.org
SUMMARY:Uniquely Us Guild at Sojourners Cafe St. Paul
DESCRIPTION:“This is for everyone – specifically with ASD – to meet people\, come out of the box\, mingle and understand Autism.” \n~Danny Roherty
URL:https://yourtap.org/event/uniquely-us-guild-at-sojourners/
LOCATION:Sojourners Cafe\, 1406 White Bear Ave\, St. Paul\, MN\, 55106\, United States
CATEGORIES:Uniquely Us
END:VEVENT
END:VCALENDAR