BEGIN:VCALENDAR
VERSION:2.0
PRODID:-//The TAP - ECPv6.15.12.2//NONSGML v1.0//EN
CALSCALE:GREGORIAN
METHOD:PUBLISH
X-WR-CALNAME:The TAP
X-ORIGINAL-URL:https://yourtap.org
X-WR-CALDESC:Events for The TAP
REFRESH-INTERVAL;VALUE=DURATION:PT1H
X-Robots-Tag:noindex
X-PUBLISHED-TTL:PT1H
BEGIN:VTIMEZONE
TZID:America/Chicago
BEGIN:DAYLIGHT
TZOFFSETFROM:-0600
TZOFFSETTO:-0500
TZNAME:CDT
DTSTART:20230312T080000
END:DAYLIGHT
BEGIN:STANDARD
TZOFFSETFROM:-0500
TZOFFSETTO:-0600
TZNAME:CST
DTSTART:20231105T070000
END:STANDARD
BEGIN:DAYLIGHT
TZOFFSETFROM:-0600
TZOFFSETTO:-0500
TZNAME:CDT
DTSTART:20240310T080000
END:DAYLIGHT
BEGIN:STANDARD
TZOFFSETFROM:-0500
TZOFFSETTO:-0600
TZNAME:CST
DTSTART:20241103T070000
END:STANDARD
BEGIN:DAYLIGHT
TZOFFSETFROM:-0600
TZOFFSETTO:-0500
TZNAME:CDT
DTSTART:20250309T080000
END:DAYLIGHT
BEGIN:STANDARD
TZOFFSETFROM:-0500
TZOFFSETTO:-0600
TZNAME:CST
DTSTART:20251102T070000
END:STANDARD
END:VTIMEZONE
BEGIN:VEVENT
DTSTART;TZID=America/Chicago:20240517T180000
DTEND;TZID=America/Chicago:20240517T203000
DTSTAMP:20260421T093251
CREATED:20240212T205347Z
LAST-MODIFIED:20240417T202814Z
UID:4585-1715968800-1715977800@yourtap.org
SUMMARY:TAP Dance Party at Woodland Hills
DESCRIPTION:This will be our final TAP Event of the season. We take the summer off and will kick things off again in the Fall. \nJoin us for our final dance party of the season…A super fun evening of dancing\, snacks\, hanging with friends and more!\nIt’s time to dance our socks off!!!\nIf you’re not on our email list\, be sure to join so we can keep you in the loop of upcoming TAP events.\n🎉 The TAP Dance Party! 🎉 \n🗓️ Date: Friday\, May 17\, 2024\n⏰ Time: 6:00 PM to 8:30 PM\n📍 Location: Woodland Hills Church\n(South Entrance – Door C)\n1740 Van Dyke St Saint Paul\, MN 55109 \nGet ready to groove\, shuffle\, and tap your way into an unforgettable evening of rhythm and fun! Whether you’re a seasoned dancer or just love to move to the beat\, this dance party is for everyone. We’ll play some great music and have plenty of space to show off your best moves. \nBring your friends\, family\, and dancing shoes! Let’s create memories and celebrate the joy of dance together. See you on the dance floor! 💃🕺 \n– Doors don’t open until 6pm\, so plan your arrival accordingly. \n– Our events now end at 8:30pm\, so if you use Metro Mobility to attend our events\, please be sure to schedule your pickup from Woodland Hills for 8:30pm\, no later. Thank you! \nAll TAP events at Woodland Hills will be held in the same space where we’ve held our dance parties in the past. \nLight snacks and beverages provided.\nAll TAP Events are free and open to the public.
URL:https://yourtap.org/event/tap-dance-party-at-woodland-hills-9/
LOCATION:Woodland Hills Church\, 1740 Van Dyke St\, Saint Paul\, MN\, 55109\, United States
CATEGORIES:TAP
ATTACH;FMTTYPE=image/jpeg:https://yourtap.org/wp-content/uploads/2019/03/Enlight472.jpg
ORGANIZER;CN="The TAP":MAILTO:info@yourtap.org
END:VEVENT
END:VCALENDAR