BEGIN:VCALENDAR
VERSION:2.0
PRODID:-//The TAP - ECPv6.15.12.2//NONSGML v1.0//EN
CALSCALE:GREGORIAN
METHOD:PUBLISH
X-ORIGINAL-URL:https://yourtap.org
X-WR-CALDESC:Events for The TAP
REFRESH-INTERVAL;VALUE=DURATION:PT1H
X-Robots-Tag:noindex
X-PUBLISHED-TTL:PT1H
BEGIN:VTIMEZONE
TZID:America/Chicago
BEGIN:DAYLIGHT
TZOFFSETFROM:-0600
TZOFFSETTO:-0500
TZNAME:CDT
DTSTART:20230312T080000
END:DAYLIGHT
BEGIN:STANDARD
TZOFFSETFROM:-0500
TZOFFSETTO:-0600
TZNAME:CST
DTSTART:20231105T070000
END:STANDARD
BEGIN:DAYLIGHT
TZOFFSETFROM:-0600
TZOFFSETTO:-0500
TZNAME:CDT
DTSTART:20240310T080000
END:DAYLIGHT
BEGIN:STANDARD
TZOFFSETFROM:-0500
TZOFFSETTO:-0600
TZNAME:CST
DTSTART:20241103T070000
END:STANDARD
BEGIN:DAYLIGHT
TZOFFSETFROM:-0600
TZOFFSETTO:-0500
TZNAME:CDT
DTSTART:20250309T080000
END:DAYLIGHT
BEGIN:STANDARD
TZOFFSETFROM:-0500
TZOFFSETTO:-0600
TZNAME:CST
DTSTART:20251102T070000
END:STANDARD
END:VTIMEZONE
BEGIN:VEVENT
DTSTART;TZID=America/Chicago:20240507T180000
DTEND;TZID=America/Chicago:20240507T203000
DTSTAMP:20260421T094056
CREATED:20240212T204349Z
LAST-MODIFIED:20240212T214352Z
UID:4583-1715104800-1715113800@yourtap.org
SUMMARY:The TAP & Suited Connectors Casino Night at Woodland Hills
DESCRIPTION:This will be our final Tuesday Night Event of the season. We take the summer off and will kick things off again in the Fall. Also\, we hope to see you at the final TAP Dance Party of the season Friday May 17th! \n🎰 Join us for The TAP Casino Night! 🎰 \nFeeling lucky? Join us for an exhilarating evening of games\, glitz\, and good company at the TAP Casino Night! Whether you’re a seasoned card shark or a first-time player\, this event promises excitement for all. \n📅 When: Tuesday\, May 7th\, 2024\n⏰ Time: 6:00 PM to 8:30 PM\n📍 Where: Woodland Hills Church (South Entrance – Door C)\n1740 Van Dyke St\, Saint Paul\, MN 55109 \n🎲 What’s in Store: \n\nCasino Games: Try your hand at blackjack\, Texas hold ’em poker\, and other fun games. 🎩💰\nPrizes: Win fun prizes throughout the night.\nSnacks and Refreshments: Recharge with light bites and beverages.\nFree Admission: Bring your friends and family for an unforgettable evening.\n\nRemember\, the doors open at 6:00 PM\, so don’t miss out on the fun! \nOur events now end at 8:30pm\, so if you use Metro Mobility to attend our events\, please be sure to schedule your pickup from Woodland Hills for 8:30pm\, no later. Thank you! \nSee you at The TAP!
URL:https://yourtap.org/event/the-tap-casino-night-at-woodland-hills/
LOCATION:Woodland Hills Church\, 1740 Van Dyke St\, Saint Paul\, MN\, 55109\, United States
CATEGORIES:TAP
ATTACH;FMTTYPE=image/png:https://yourtap.org/wp-content/uploads/2024/02/84B87CAF-4AE0-4750-88E3-6C651FABAD1B.png
ORGANIZER;CN="The TAP":MAILTO:info@yourtap.org
END:VEVENT
END:VCALENDAR