BEGIN:VCALENDAR
VERSION:2.0
PRODID:-//The TAP - ECPv6.15.20//NONSGML v1.0//EN
CALSCALE:GREGORIAN
METHOD:PUBLISH
X-ORIGINAL-URL:https://yourtap.org
X-WR-CALDESC:Events for The TAP
REFRESH-INTERVAL;VALUE=DURATION:PT1H
X-Robots-Tag:noindex
X-PUBLISHED-TTL:PT1H
BEGIN:VTIMEZONE
TZID:America/Chicago
BEGIN:DAYLIGHT
TZOFFSETFROM:-0600
TZOFFSETTO:-0500
TZNAME:CDT
DTSTART:20230312T080000
END:DAYLIGHT
BEGIN:STANDARD
TZOFFSETFROM:-0500
TZOFFSETTO:-0600
TZNAME:CST
DTSTART:20231105T070000
END:STANDARD
BEGIN:DAYLIGHT
TZOFFSETFROM:-0600
TZOFFSETTO:-0500
TZNAME:CDT
DTSTART:20240310T080000
END:DAYLIGHT
BEGIN:STANDARD
TZOFFSETFROM:-0500
TZOFFSETTO:-0600
TZNAME:CST
DTSTART:20241103T070000
END:STANDARD
BEGIN:DAYLIGHT
TZOFFSETFROM:-0600
TZOFFSETTO:-0500
TZNAME:CDT
DTSTART:20250309T080000
END:DAYLIGHT
BEGIN:STANDARD
TZOFFSETFROM:-0500
TZOFFSETTO:-0600
TZNAME:CST
DTSTART:20251102T070000
END:STANDARD
END:VTIMEZONE
BEGIN:VEVENT
DTSTART;TZID=America/Chicago:20240402T180000
DTEND;TZID=America/Chicago:20240402T203000
DTSTAMP:20260421T114031
CREATED:20240212T203442Z
LAST-MODIFIED:20240212T203442Z
UID:4579-1712080800-1712089800@yourtap.org
SUMMARY:TAP Karaoke Night at Woodland Hills
DESCRIPTION:🎤 TAP Karaoke Night! 🎤 \nJoin us for an unforgettable evening of music\, laughter\, and camaraderie at the TAP Karaoke Night! Whether you’re a seasoned crooner or a shy shower-singer\, this event promises fun for everyone. \n📅 When: Tuesday\, April 2\, 2024\n⏰ Time: 6:00 PM to 8:30 PM\n📍 Where: Woodland Hills Church (South Entrance – Door C)\n1740 Van Dyke St\, Saint Paul\, MN 55109 \n🎶 What to Expect: \n\nKaraoke Extravaganza: Take the stage and belt out your favorite tunes! 🎵\nSupportive Atmosphere: Even if you’re not singing\, come cheer on your friends and fellow TAP members.\nLight Snacks and Beverages: Recharge between performances with tasty treats.\nFree Admission: All TAP events are open to the public\, so bring your friends and family!\n\nRemember\, doors open at 6:00 PM\, so plan your arrival accordingly. If you use Metro Mobility\, schedule your pickup from Woodland Hills for 8:30 PM. \nSee you at The TAP! 🎉🎶
URL:https://yourtap.org/event/tap-karaoke-night-at-woodland-hills/
LOCATION:Woodland Hills Church\, 1740 Van Dyke St\, Saint Paul\, MN\, 55109\, United States
CATEGORIES:TAP
ATTACH;FMTTYPE=image/jpeg:https://yourtap.org/wp-content/uploads/2023/08/ED7C7DB9-79F5-47A5-BB8E-3F35AA7B19C3.jpg
ORGANIZER;CN="The TAP":MAILTO:info@yourtap.org
END:VEVENT
END:VCALENDAR