BEGIN:VCALENDAR
VERSION:2.0
PRODID:-//The TAP - ECPv6.15.12.2//NONSGML v1.0//EN
CALSCALE:GREGORIAN
METHOD:PUBLISH
X-ORIGINAL-URL:https://yourtap.org
X-WR-CALDESC:Events for The TAP
REFRESH-INTERVAL;VALUE=DURATION:PT1H
X-Robots-Tag:noindex
X-PUBLISHED-TTL:PT1H
BEGIN:VTIMEZONE
TZID:America/Chicago
BEGIN:DAYLIGHT
TZOFFSETFROM:-0600
TZOFFSETTO:-0500
TZNAME:CDT
DTSTART:20160313T080000
END:DAYLIGHT
BEGIN:STANDARD
TZOFFSETFROM:-0500
TZOFFSETTO:-0600
TZNAME:CST
DTSTART:20161106T070000
END:STANDARD
BEGIN:DAYLIGHT
TZOFFSETFROM:-0600
TZOFFSETTO:-0500
TZNAME:CDT
DTSTART:20170312T080000
END:DAYLIGHT
BEGIN:STANDARD
TZOFFSETFROM:-0500
TZOFFSETTO:-0600
TZNAME:CST
DTSTART:20171105T070000
END:STANDARD
BEGIN:DAYLIGHT
TZOFFSETFROM:-0600
TZOFFSETTO:-0500
TZNAME:CDT
DTSTART:20180311T080000
END:DAYLIGHT
BEGIN:STANDARD
TZOFFSETFROM:-0500
TZOFFSETTO:-0600
TZNAME:CST
DTSTART:20181104T070000
END:STANDARD
BEGIN:DAYLIGHT
TZOFFSETFROM:-0600
TZOFFSETTO:-0500
TZNAME:CDT
DTSTART:20190310T080000
END:DAYLIGHT
BEGIN:STANDARD
TZOFFSETFROM:-0500
TZOFFSETTO:-0600
TZNAME:CST
DTSTART:20191103T070000
END:STANDARD
BEGIN:DAYLIGHT
TZOFFSETFROM:-0600
TZOFFSETTO:-0500
TZNAME:CDT
DTSTART:20200308T080000
END:DAYLIGHT
BEGIN:STANDARD
TZOFFSETFROM:-0500
TZOFFSETTO:-0600
TZNAME:CST
DTSTART:20201101T070000
END:STANDARD
BEGIN:DAYLIGHT
TZOFFSETFROM:-0600
TZOFFSETTO:-0500
TZNAME:CDT
DTSTART:20210314T080000
END:DAYLIGHT
BEGIN:STANDARD
TZOFFSETFROM:-0500
TZOFFSETTO:-0600
TZNAME:CST
DTSTART:20211107T070000
END:STANDARD
BEGIN:DAYLIGHT
TZOFFSETFROM:-0600
TZOFFSETTO:-0500
TZNAME:CDT
DTSTART:20220313T080000
END:DAYLIGHT
BEGIN:STANDARD
TZOFFSETFROM:-0500
TZOFFSETTO:-0600
TZNAME:CST
DTSTART:20221106T070000
END:STANDARD
BEGIN:DAYLIGHT
TZOFFSETFROM:-0600
TZOFFSETTO:-0500
TZNAME:CDT
DTSTART:20230312T080000
END:DAYLIGHT
BEGIN:STANDARD
TZOFFSETFROM:-0500
TZOFFSETTO:-0600
TZNAME:CST
DTSTART:20231105T070000
END:STANDARD
END:VTIMEZONE
BEGIN:VEVENT
DTSTART;TZID=America/Chicago:20220604T100000
DTEND;TZID=America/Chicago:20220604T170000
DTSTAMP:20260420T025255
CREATED:20220428T190624Z
LAST-MODIFIED:20220603T002032Z
UID:4206-1654336800-1654362000@yourtap.org
SUMMARY:The TAP at Art In The Hollow - Swede Hollow Park - Saturday June 4th
DESCRIPTION:  \nJoin us for an all-day TAP and Urban Journal Party at Art In The Hollow!\nPacked with great local artists\, musicians\, poets\, authors\, TAP friends…. and so much more!\nBe a part of this dynamic\, accepting experience! You’ll never be the same!\nOur stage will be set up in the tunnel in the south end of the park.\nJune 4\, 2022   10am to 5pm\nAt\n\nArt In The Hollow Art Festival\nEnter Swede Hollow at\nPayne Avenue and 7thStreet.\nConvenient Parking across from The Minnesota Music Café \nRestrooms       Free Water     Comfortable Seating\nMobility shuttle available\nLook for TAP sign across the street from Minnesota Music Cafe for more info on Shuttle\n\n\nAdmission to Art in the Hollow is free!\n\nFood is available for purchase in the north end of the park. We will have transportation available to take you to and from the north end if you’d like to grab some food.  You may also bring food and/or snacks into the park.  We will have water available at no charge.
URL:https://yourtap.org/event/the-tap-at-art-in-the-hollow-swede-hollow-park-saturday-june-4th/
LOCATION:Swede Hollow Park St. Paul\,  615 7th St E\, St. Paul\, MN\, 55106\, United States
CATEGORIES:Better Together,SuitedConnectors,TAP,Uniquely Us,Urban Journal,Video Gaming Guild
ATTACH;FMTTYPE=image/jpeg:https://yourtap.org/wp-content/uploads/2019/05/TAP-AITH-2019-Logo.jpg
ORGANIZER;CN="The TAP":MAILTO:info@yourtap.org
END:VEVENT
BEGIN:VEVENT
DTSTART;TZID=America/Chicago:20190601T100000
DTEND;TZID=America/Chicago:20190601T170000
DTSTAMP:20260420T025255
CREATED:20190507T145919Z
LAST-MODIFIED:20190530T232554Z
UID:2378-1559383200-1559408400@yourtap.org
SUMMARY:The TAP at Art In The Hollow - Swede Hollow Park
DESCRIPTION:Join us for an all day TAP PARTY at Art In The Hollow – packed with great local bands\, poets\, authors\, TAP friends\, childrens live readings…. and so much more!\nWith Hot Pink Hangover\, Mike Prenosil\, great local bands\, poets\, authors\, TAP friends\, children’s live readings…. and so much more!\nBe a part of this dynamic\, accepting experience! You’ll never be the same!\nJune 1\, 2019   10am to 5pm\nAt\nArt In The Hollow Art Festival\nEnter Swede Hollow at\nPayne Avenue and 7thStreet.\nConvenient Parking across fromThe Minnesota Music Café \nRestrooms       Free Water     Comfortable Seating\nMobility shuttle available\n\nAdmission to Art in the Hollow is free!\n\nFood is available for purchase in the north end of the park. We will have transportation available to take you to and from the north end if you’d like to grab some food.  You may also bring food and/or snacks into the park.  We will have water available at no charge.\n\nThe weather is looking good for Saturday! In the event of inclement weather\, we will move our performance stage to the following location:\nHope Community Academy\n720 Payne Avenue\nSt. Paul\, MN 55130\nPlease stay tuned to our Facebook Group page and yourtap.org for updates.\nSee you all Saturday!!!
URL:https://yourtap.org/event/the-tap-at-art-in-the-hollow-swede-hollow-park/
LOCATION:Swede Hollow Park St. Paul\,  615 7th St E\, St. Paul\, MN\, 55106\, United States
CATEGORIES:Better Together,SuitedConnectors,TAP,Uniquely Us,Urban Journal,Video Gaming Guild
ATTACH;FMTTYPE=image/jpeg:https://yourtap.org/wp-content/uploads/2019/05/TAP-AITH-2019-Logo.jpg
ORGANIZER;CN="The TAP":MAILTO:info@yourtap.org
END:VEVENT
BEGIN:VEVENT
DTSTART;TZID=America/Chicago:20190325T180000
DTEND;TZID=America/Chicago:20190325T210000
DTSTAMP:20260420T025255
CREATED:20190315T031349Z
LAST-MODIFIED:20190315T031637Z
UID:2285-1553536800-1553547600@yourtap.org
SUMMARY:TAP Mondays - Better Together at Woodland Hills
DESCRIPTION:How about some Trivia? on Monday March 25th\, we’ll be playing some Trivia\, along with our regular just hanging out\, meeting new friends and singing some Karaoke. \nWHAT: Better Together\nWHEN: Monday March 25th 6pm to 9pm\nWHERE: Woodland Hills Church \nNOTE:\nENTER THROUGH THE B DOOR. THIS DOOR FACES THE LIQUOR STORE. \nAll TAP events are free and open to the public. \nVisit yourap.org for more information on upcoming events. \nSee you at The TAP!
URL:https://yourtap.org/event/tap-mondays-better-together-at-woodland-hills/
LOCATION:Woodland Hills Church\, 1740 Van Dyke St\, Saint Paul\, MN\, 55109\, United States
CATEGORIES:Better Together,TAP
ORGANIZER;CN="The TAP":MAILTO:info@yourtap.org
END:VEVENT
BEGIN:VEVENT
DTSTART;TZID=America/Chicago:20181112T180000
DTEND;TZID=America/Chicago:20181112T210000
DTSTAMP:20260420T025255
CREATED:20181102T021737Z
LAST-MODIFIED:20181112T011854Z
UID:2058-1542045600-1542056400@yourtap.org
SUMMARY:TAP Mondays - Better Together & Uniquely Us
DESCRIPTION:Better Together & Uniquely Us\nNorth Entrance\, opposite end of the building from where or regular TAP events are located\nWoodland Hills\n\nWe have a 2 for one night\, with Better Together and Uniquely Us hosting events at Woodland Hills. We’ll be using a new space in the north wing of Woodland Hills.  \nJoin us November the 12th at Woodland Hills “North Entrance” for a night of Friendship\, support and Learning new things.  \nAll TAP Events are free and open to the public. Everyone is welcome! \nSee you at the TAP!  \n\nBetter together is for everyone – Supporting our friends with recovery labels. Hang with some great friends\, enjoy some signature coffee drinks\, and just socialize.  It’s always better together! \nWhat is Uniquely Us?  This is for everyone – specifically with ASD – to meet people and come out of the box\, mingle\, and understand ASD.
URL:https://yourtap.org/event/tap-mondays-better-together-uniquely-us/
LOCATION:Woodland Hills Church\, 1740 Van Dyke St\, Saint Paul\, MN\, 55109\, United States
CATEGORIES:Better Together,Uniquely Us
ATTACH;FMTTYPE=image/jpeg:https://yourtap.org/wp-content/uploads/2018/11/Enlight289.jpg
ORGANIZER;CN="The TAP":MAILTO:info@yourtap.org
END:VEVENT
BEGIN:VEVENT
DTSTART;TZID=America/Chicago:20171030T180000
DTEND;TZID=America/Chicago:20171030T210000
DTSTAMP:20260420T025255
CREATED:20171003T174121Z
LAST-MODIFIED:20171003T174121Z
UID:1203-1509386400-1509397200@yourtap.org
SUMMARY:Better Together Guild at Sojourners Cafe St. Paul
DESCRIPTION:Hang out with and meet new friends at the TAP’s “Better Together Guild”.  In recovery?  Then this group is for you.  We’re looking forward to seeing you there!
URL:https://yourtap.org/event/better-together-guild-at-sojourners-cafe-st-paul-2/
LOCATION:Sojourners Cafe\, 1406 White Bear Ave\, St. Paul\, MN\, 55106\, United States
CATEGORIES:Better Together
ORGANIZER;CN="The TAP":MAILTO:info@yourtap.org
END:VEVENT
BEGIN:VEVENT
DTSTART;TZID=America/Chicago:20170626T180000
DTEND;TZID=America/Chicago:20170626T210000
DTSTAMP:20260420T025255
CREATED:20170619T021314Z
LAST-MODIFIED:20170619T021314Z
UID:1037-1498500000-1498510800@yourtap.org
SUMMARY:Better Together Guild at Sojourners Cafe St. Paul
DESCRIPTION:Hang out with and meet new friends at the TAP’s “Better Together Guild”.  In recovery?  Then this group is for you.  We’re looking forward to seeing you there!
URL:https://yourtap.org/event/better-together-guild-at-sojourners-cafe-st-paul/
LOCATION:Sojourners Cafe\, 1406 White Bear Ave\, St. Paul\, MN\, 55106\, United States
CATEGORIES:Better Together
ORGANIZER;CN="The TAP":MAILTO:info@yourtap.org
END:VEVENT
BEGIN:VEVENT
DTSTART;TZID=America/Chicago:20170515T180000
DTEND;TZID=America/Chicago:20170515T210000
DTSTAMP:20260420T025255
CREATED:20170328T003501Z
LAST-MODIFIED:20170421T153028Z
UID:788-1494871200-1494882000@yourtap.org
SUMMARY:Better Together Guild at Sojourners Cafe St. Paul
DESCRIPTION:Hang out with and meet new friends at the TAP’s “Better Together Guild”.  In recovery?  Then this group is for you.  We’re looking forward to seeing you there!
URL:https://yourtap.org/event/better-together-guild-event-2/
LOCATION:Sojourners Cafe\, 1406 White Bear Ave\, St. Paul\, MN\, 55106\, United States
CATEGORIES:Better Together
END:VEVENT
BEGIN:VEVENT
DTSTART;TZID=America/Chicago:20170505T180000
DTEND;TZID=America/Chicago:20170505T210000
DTSTAMP:20260420T025255
CREATED:20170328T003355Z
LAST-MODIFIED:20170421T153041Z
UID:786-1494007200-1494018000@yourtap.org
SUMMARY:Better Together Guild at Sojourners Cafe St. Paul
DESCRIPTION:Hang out with and meet new friends at the TAP’s “Better Together Guild”.  In recovery?  Then this group is for you.  We’re looking forward to seeing you there!
URL:https://yourtap.org/event/better-together-guild-event/
LOCATION:Sojourners Cafe\, 1406 White Bear Ave\, St. Paul\, MN\, 55106\, United States
CATEGORIES:Better Together
END:VEVENT
END:VCALENDAR